BEGIN:VCALENDAR
VERSION:2.0
PRODID:-//Segler-Verband Mecklenburg-Vorpommern e.V. - ECPv6.15.20//NONSGML v1.0//EN
CALSCALE:GREGORIAN
METHOD:PUBLISH
X-ORIGINAL-URL:https://www.svmv.de
X-WR-CALDESC:Veranstaltungen für Segler-Verband Mecklenburg-Vorpommern e.V.
REFRESH-INTERVAL;VALUE=DURATION:PT1H
X-Robots-Tag:noindex
X-PUBLISHED-TTL:PT1H
BEGIN:VTIMEZONE
TZID:Europe/Helsinki
BEGIN:DAYLIGHT
TZOFFSETFROM:+0200
TZOFFSETTO:+0300
TZNAME:EEST
DTSTART:20210328T010000
END:DAYLIGHT
BEGIN:STANDARD
TZOFFSETFROM:+0300
TZOFFSETTO:+0200
TZNAME:EET
DTSTART:20211031T010000
END:STANDARD
BEGIN:DAYLIGHT
TZOFFSETFROM:+0200
TZOFFSETTO:+0300
TZNAME:EEST
DTSTART:20220327T010000
END:DAYLIGHT
BEGIN:STANDARD
TZOFFSETFROM:+0300
TZOFFSETTO:+0200
TZNAME:EET
DTSTART:20221030T010000
END:STANDARD
BEGIN:DAYLIGHT
TZOFFSETFROM:+0200
TZOFFSETTO:+0300
TZNAME:EEST
DTSTART:20230326T010000
END:DAYLIGHT
BEGIN:STANDARD
TZOFFSETFROM:+0300
TZOFFSETTO:+0200
TZNAME:EET
DTSTART:20231029T010000
END:STANDARD
END:VTIMEZONE
BEGIN:VEVENT
DTSTART;VALUE=DATE:20220702
DTEND;VALUE=DATE:20220703
DTSTAMP:20260424T025248
CREATED:20220629T234955Z
LAST-MODIFIED:20220629T234955Z
UID:49109-1656720000-1656806399@www.svmv.de
SUMMARY:23.Plauer Opti-Oldie
DESCRIPTION:Opti Ü 25
URL:https://www.svmv.de/event/23-plauer-opti-oldie-3/
LOCATION:Wasserwanderrastplatz (PWV)\, Dammstr. 25\, Plau am See\, 19395\, Deutschland
ORGANIZER;CN="PWV":MAILTO:holger.dahnke@pwv-plau.de
END:VEVENT
BEGIN:VEVENT
DTSTART;VALUE=DATE:20220702
DTEND;VALUE=DATE:20220703
DTSTAMP:20260424T025248
CREATED:20220629T234955Z
LAST-MODIFIED:20220629T234955Z
UID:49106-1656720000-1656806399@www.svmv.de
SUMMARY:36. Zeesbootregatta Wustrow
DESCRIPTION:Zeesboote
URL:https://www.svmv.de/event/36-zeesbootregatta-wustrow-3/
ORGANIZER;CN="FSCG":MAILTO:oli@surfcenter-wustrow.de
END:VEVENT
BEGIN:VEVENT
DTSTART;VALUE=DATE:20220702
DTEND;VALUE=DATE:20220704
DTSTAMP:20260424T025248
CREATED:20220629T234955Z
LAST-MODIFIED:20220629T234955Z
UID:49107-1656720000-1656892799@www.svmv.de
SUMMARY:Auge Sommerregatta
DESCRIPTION:Opti B/C; Cadet; ILCA 4 und 6; Ixylon; Europe; Pirat; Finn
URL:https://www.svmv.de/event/auge-sommerregatta-9/
ORGANIZER;CN="SVEG":MAILTO:segeljugend.einheit.guestrow@freenet.de
END:VEVENT
BEGIN:VEVENT
DTSTART;VALUE=DATE:20220702
DTEND;VALUE=DATE:20220711
DTSTAMP:20260424T025248
CREATED:20220629T234955Z
LAST-MODIFIED:20220629T234955Z
UID:49108-1656720000-1657497599@www.svmv.de
SUMMARY:84. Warnemünder Woche
DESCRIPTION:
URL:https://www.svmv.de/event/84-warnemuender-woche/
END:VEVENT
BEGIN:VEVENT
DTSTART;VALUE=DATE:20220706
DTEND;VALUE=DATE:20220707
DTSTAMP:20260424T025248
CREATED:20220629T235010Z
LAST-MODIFIED:20220629T235010Z
UID:49110-1657065600-1657151999@www.svmv.de
SUMMARY:9.Peenemünder Jollenpokal
DESCRIPTION:Opti B; Laser; 420er; Far east 11
URL:https://www.svmv.de/event/9-peenemuender-jollenpokal/
END:VEVENT
BEGIN:VEVENT
DTSTART;VALUE=DATE:20220709
DTEND;VALUE=DATE:20220710
DTSTAMP:20260424T025248
CREATED:20220629T235010Z
LAST-MODIFIED:20220629T235010Z
UID:49111-1657324800-1657411199@www.svmv.de
SUMMARY:30. Rudenregatta
DESCRIPTION:Kutter ZK 10
URL:https://www.svmv.de/event/30-rudenregatta/
END:VEVENT
BEGIN:VEVENT
DTSTART;VALUE=DATE:20220723
DTEND;VALUE=DATE:20220724
DTSTAMP:20260424T025248
CREATED:20220629T235010Z
LAST-MODIFIED:20220629T235010Z
UID:49112-1658534400-1658620799@www.svmv.de
SUMMARY:31.Blaues Band vom Stettiner Haff
DESCRIPTION:YS Yachten; YS Jollenkreuzer
URL:https://www.svmv.de/event/31-blaues-band-vom-stettiner-haff/
ORGANIZER;CN="YCUE":MAILTO:stoecker1902@aol.com
END:VEVENT
END:VCALENDAR